BEGIN:VCALENDAR
VERSION:2.0
PRODID:-//Hasi-Watasi - ECPv6.15.20//NONSGML v1.0//EN
CALSCALE:GREGORIAN
METHOD:PUBLISH
X-ORIGINAL-URL:https://hasi-watasi.earth
X-WR-CALDESC:Hasi-Watasi のスケジュール
REFRESH-INTERVAL;VALUE=DURATION:PT1H
X-Robots-Tag:noindex
X-PUBLISHED-TTL:PT1H
BEGIN:VTIMEZONE
TZID:Asia/Tokyo
BEGIN:STANDARD
TZOFFSETFROM:+0900
TZOFFSETTO:+0900
TZNAME:JST
DTSTART:20230101T000000
END:STANDARD
END:VTIMEZONE
BEGIN:VEVENT
DTSTART;TZID=Asia/Tokyo:20250622T130000
DTEND;TZID=Asia/Tokyo:20250622T170000
DTSTAMP:20260420T230354
CREATED:20250619T151253Z
LAST-MODIFIED:20250621T080125Z
UID:10000004-1750597200-1750611600@hasi-watasi.earth
SUMMARY:テストだよ、全員集合
DESCRIPTION:テストをします。 \nみんな集まってね。
URL:https://hasi-watasi.earth/schedule/%e3%83%86%e3%82%b9%e3%83%88%e3%81%a0%e3%82%88/
LOCATION:ワンネスアースオフィス\, 渋谷一丁目1番3号アミーホール3−4F\, 渋谷区\, 東京都\, 150−0002\, Japan
CATEGORIES:トークセッション
ATTACH;FMTTYPE=image/jpeg:https://hasi-watasi.earth/wp-content/uploads/2025/06/IMG_1842.jpeg
ORGANIZER;CN="%E3%83%AF%E3%83%B3%E3%83%8D%E3%82%B9%E3%82%A2%E3%83%BC%E3%82%B9%E6%A0%AA%E5%BC%8F%E4%BC%9A%E7%A4%BE":MAILTO:info@oneness-earth.com
END:VEVENT
BEGIN:VEVENT
DTSTART;TZID=Asia/Tokyo:20241230T160000
DTEND;TZID=Asia/Tokyo:20241230T170000
DTSTAMP:20260420T230354
CREATED:20241230T044750Z
LAST-MODIFIED:20241230T044750Z
UID:10000002-1735574400-1735578000@hasi-watasi.earth
SUMMARY:テスト
DESCRIPTION:テスト
URL:https://hasi-watasi.earth/schedule/%e3%83%86%e3%82%b9%e3%83%88/
LOCATION:東京都
CATEGORIES:お話会
ATTACH;FMTTYPE=image/jpeg:https://hasi-watasi.earth/wp-content/uploads/2024/12/beach-1761410_1280.jpeg
END:VEVENT
END:VCALENDAR